BEGIN:VCALENDAR
VERSION:2.0
PRODID:-//Action Christianity - ECPv6.15.20//NONSGML v1.0//EN
CALSCALE:GREGORIAN
METHOD:PUBLISH
X-WR-CALNAME:Action Christianity
X-ORIGINAL-URL:https://actionchristianity.com
X-WR-CALDESC:Events for Action Christianity
REFRESH-INTERVAL;VALUE=DURATION:PT1H
X-Robots-Tag:noindex
X-PUBLISHED-TTL:PT1H
BEGIN:VTIMEZONE
TZID:UTC
BEGIN:STANDARD
TZOFFSETFROM:+0000
TZOFFSETTO:+0000
TZNAME:UTC
DTSTART:20240101T000000
END:STANDARD
END:VTIMEZONE
BEGIN:VEVENT
DTSTART;TZID=UTC:20250502T193000
DTEND;TZID=UTC:20250502T213000
DTSTAMP:20260424T093403
CREATED:20250415T201155Z
LAST-MODIFIED:20250506T162330Z
UID:9487-1746214200-1746221400@actionchristianity.com
SUMMARY:LIVE Stream - Expert Inner Healing Deliverance Minister And Psychologist - Mark Vanderlip
DESCRIPTION:It is my honor to host a LIVE dialogue about repentance\, inner healing\, and deliverance with Mark Vanderlip from the Church: The Well of Maryville\, near Knoxville\, Tennessee. \nMark is one of the best I know at helping people into the freedom that Jesus purchased for us. He has prayed for me and some of my friends – and it has greatly helped. Every week he helps people get set free – and it is deep and true freedom. \nLet’s listen and learn from people like him\, who are truly paving the way into how to do this in a healthy way. \nSign up to get notified here: https://www.youtube.com/live/7DiCFE64wJY?si=j9xg2i_BGO59iMQy \nAnd – please\, on YouTube and other Social Media\, like\, follow\, subscribe\, comment etc. Let’s GO!
URL:https://actionchristianity.com/event/live-stream-expert-inner-healing-deliverance-minister-and-psychologist-mark-vanderlip/
LOCATION:Online\, Denmark
CATEGORIES:Inner Healing & Deliverance,Pastoral
ATTACH;FMTTYPE=image/avif:https://actionchristianity.com/wp-content/uploads/2025/04/Mark-Vanderlip-Spiritual-Freedom-Fighter.avif
END:VEVENT
END:VCALENDAR