BEGIN:VCALENDAR
VERSION:2.0
PRODID:-//Action Christianity - ECPv6.15.20//NONSGML v1.0//EN
CALSCALE:GREGORIAN
METHOD:PUBLISH
X-WR-CALNAME:Action Christianity
X-ORIGINAL-URL:https://actionchristianity.com
X-WR-CALDESC:Events for Action Christianity
REFRESH-INTERVAL;VALUE=DURATION:PT1H
X-Robots-Tag:noindex
X-PUBLISHED-TTL:PT1H
BEGIN:VTIMEZONE
TZID:Europe/Copenhagen
BEGIN:DAYLIGHT
TZOFFSETFROM:+0100
TZOFFSETTO:+0200
TZNAME:CEST
DTSTART:20240331T010000
END:DAYLIGHT
BEGIN:STANDARD
TZOFFSETFROM:+0200
TZOFFSETTO:+0100
TZNAME:CET
DTSTART:20241027T010000
END:STANDARD
BEGIN:DAYLIGHT
TZOFFSETFROM:+0100
TZOFFSETTO:+0200
TZNAME:CEST
DTSTART:20250330T010000
END:DAYLIGHT
BEGIN:STANDARD
TZOFFSETFROM:+0200
TZOFFSETTO:+0100
TZNAME:CET
DTSTART:20251026T010000
END:STANDARD
BEGIN:DAYLIGHT
TZOFFSETFROM:+0100
TZOFFSETTO:+0200
TZNAME:CEST
DTSTART:20260329T010000
END:DAYLIGHT
BEGIN:STANDARD
TZOFFSETFROM:+0200
TZOFFSETTO:+0100
TZNAME:CET
DTSTART:20261025T010000
END:STANDARD
END:VTIMEZONE
BEGIN:VEVENT
DTSTART;TZID=Europe/Copenhagen:20250412T093000
DTEND;TZID=Europe/Copenhagen:20250412T163000
DTSTAMP:20260424T134129
CREATED:20250324T111812Z
LAST-MODIFIED:20250324T111813Z
UID:8980-1744450200-1744475400@actionchristianity.com
SUMMARY:Åndeligt Frihedskursus : Bliv mere fri og lær at sætte andre fri
DESCRIPTION:Beskrivelse og Tilmelding\nhttps://actionchristianity.com/vaekst-frihedskursus-april-2025
URL:https://actionchristianity.com/event/andeligt-frihedskursus-bliv-mere-fri-og-laer-at-saette-andre-fri/
LOCATION:Københavns Frikirke – Frederiksberg\, Filippavej 3\, Frederiksberg\, Denmark
CATEGORIES:Inner Healing & Deliverance
ATTACH;FMTTYPE=image/avif:https://actionchristianity.com/wp-content/uploads/2025/03/5hnlxvoaxuy-1.webp
END:VEVENT
END:VCALENDAR